BEGIN:VCALENDAR
VERSION:2.0
PRODID:-//Tennis SSV Mainperle Wertheim - ECPv6.15.20//NONSGML v1.0//EN
CALSCALE:GREGORIAN
METHOD:PUBLISH
X-WR-CALNAME:Tennis SSV Mainperle Wertheim
X-ORIGINAL-URL:https://tennis-ssv-mainperle-wertheim.de
X-WR-CALDESC:Veranstaltungen für Tennis SSV Mainperle Wertheim
REFRESH-INTERVAL;VALUE=DURATION:PT1H
X-Robots-Tag:noindex
X-PUBLISHED-TTL:PT1H
BEGIN:VTIMEZONE
TZID:UTC
BEGIN:STANDARD
TZOFFSETFROM:+0000
TZOFFSETTO:+0000
TZNAME:UTC
DTSTART:20250101T000000
END:STANDARD
END:VTIMEZONE
BEGIN:VEVENT
DTSTART;TZID=UTC:20260426T110000
DTEND;TZID=UTC:20260426T180000
DTSTAMP:20260421T104302
CREATED:20260208T075725Z
LAST-MODIFIED:20260414T182204Z
UID:203-1777201200-1777226400@tennis-ssv-mainperle-wertheim.de
SUMMARY:Saisoneröffnung
DESCRIPTION:Programm: \nab 11 Uhr Schnuppern für Nichtvereinsmitglieder – Kinder und Erwachsene. Für Anfänger halten wir Schläger und Bälle bereit. Und auch ein Trainer ist da – viel Spaß! \nab 14 Uhr gemeinsames Tennisspielen für die Mitglieder auf unserer Tennisanlage des SSV Mainperle Urphar-Lindelbach \nKaffee & Kuchen im Vereinsheim \nGemütliches Beisammensein
URL:https://tennis-ssv-mainperle-wertheim.de/event/26-04-2026-saison-opening/
END:VEVENT
BEGIN:VEVENT
DTSTART;TZID=UTC:20260516T140000
DTEND;TZID=UTC:20260516T140000
DTSTAMP:20260421T104302
CREATED:20260321T193953Z
LAST-MODIFIED:20260321T195049Z
UID:219-1778940000-1778940000@tennis-ssv-mainperle-wertheim.de
SUMMARY:Medenspiel Herren 50
DESCRIPTION:TC RW Waldpark Mannheim 1 : SSV Mainperle 1 \n 
URL:https://tennis-ssv-mainperle-wertheim.de/event/medenspiel-herren-50/
END:VEVENT
BEGIN:VEVENT
DTSTART;TZID=UTC:20260613T140000
DTEND;TZID=UTC:20260613T140000
DTSTAMP:20260421T104302
CREATED:20260321T194129Z
LAST-MODIFIED:20260321T195120Z
UID:221-1781359200-1781359200@tennis-ssv-mainperle-wertheim.de
SUMMARY:Medenspiel Herren 50
DESCRIPTION:SSV Mainperle 1 : TSG TG Baiertal-Schatthausen/TC Leimbachtal Dielheim 1
URL:https://tennis-ssv-mainperle-wertheim.de/event/medenspiel-herren-50-2/
END:VEVENT
BEGIN:VEVENT
DTSTART;TZID=UTC:20260620T140000
DTEND;TZID=UTC:20260620T140000
DTSTAMP:20260421T104302
CREATED:20260321T194233Z
LAST-MODIFIED:20260321T194248Z
UID:223-1781964000-1781964000@tennis-ssv-mainperle-wertheim.de
SUMMARY:Medenspiel Herren 50
DESCRIPTION:TC Großeicholzheim 1 : SSV Mainperle 1
URL:https://tennis-ssv-mainperle-wertheim.de/event/medenspiel-herren-60/
END:VEVENT
BEGIN:VEVENT
DTSTART;TZID=UTC:20260627T140000
DTEND;TZID=UTC:20260627T140000
DTSTAMP:20260421T104302
CREATED:20260321T194347Z
LAST-MODIFIED:20260321T195149Z
UID:226-1782568800-1782568800@tennis-ssv-mainperle-wertheim.de
SUMMARY:Medenspiel Herren 50
DESCRIPTION:SSV Mainperle 1 : SGK Heidelberg 1
URL:https://tennis-ssv-mainperle-wertheim.de/event/medenspiel-herren-50-3/
END:VEVENT
BEGIN:VEVENT
DTSTART;TZID=UTC:20260711T140000
DTEND;TZID=UTC:20260711T140000
DTSTAMP:20260421T104302
CREATED:20260321T194512Z
LAST-MODIFIED:20260321T195204Z
UID:228-1783778400-1783778400@tennis-ssv-mainperle-wertheim.de
SUMMARY:Medenspiel Herren 50
DESCRIPTION:TSC GB Wertheim 1 : SSV Mainperle 1
URL:https://tennis-ssv-mainperle-wertheim.de/event/medenspiel-herren-50-4/
END:VEVENT
BEGIN:VEVENT
DTSTART;TZID=UTC:20260711T160000
DTEND;TZID=UTC:20260711T160000
DTSTAMP:20260421T104302
CREATED:20260321T191218Z
LAST-MODIFIED:20260321T191848Z
UID:211-1783785600-1783785600@tennis-ssv-mainperle-wertheim.de
SUMMARY:Sommerfest
DESCRIPTION:Programm: \nGemeinsames Tennisspielen auf unseren Tennisplätzen \nGrillen am Vereinsheim \nGemütlicher Ausklang
URL:https://tennis-ssv-mainperle-wertheim.de/event/sommerfest/
END:VEVENT
BEGIN:VEVENT
DTSTART;TZID=UTC:20260718T140000
DTEND;TZID=UTC:20260718T140000
DTSTAMP:20260421T104302
CREATED:20260321T194616Z
LAST-MODIFIED:20260321T195218Z
UID:230-1784383200-1784383200@tennis-ssv-mainperle-wertheim.de
SUMMARY:Medenspiel Herren 50
DESCRIPTION:SSV Mainperle 1 : TC 1974 Angelbachtal 1
URL:https://tennis-ssv-mainperle-wertheim.de/event/medenspiel-herren-50-5/
END:VEVENT
BEGIN:VEVENT
DTSTART;TZID=UTC:20260920T100000
DTEND;TZID=UTC:20260920T100000
DTSTAMP:20260421T104302
CREATED:20260321T191608Z
LAST-MODIFIED:20260321T191959Z
UID:215-1789898400-1789898400@tennis-ssv-mainperle-wertheim.de
SUMMARY:Weißwurst-Frühstück
DESCRIPTION:Programm: \nWeißwurst & Frühstück \nGemeinsames Tennisspielen \nKaffee & Kuchen
URL:https://tennis-ssv-mainperle-wertheim.de/event/weisswurst-fruehstueck/
END:VEVENT
END:VCALENDAR